Package: BgeeDB Version: 2.33.0 Command: /Library/Frameworks/R.framework/Resources/bin/R CMD check --install=check:BgeeDB.install-out.txt --library=/Library/Frameworks/R.framework/Resources/library --no-vignettes --timings BgeeDB_2.33.0.tar.gz StartedAt: 2025-02-19 19:01:57 -0500 (Wed, 19 Feb 2025) EndedAt: 2025-02-19 19:13:40 -0500 (Wed, 19 Feb 2025) EllapsedTime: 702.9 seconds RetCode: 0 Status: OK CheckDir: BgeeDB.Rcheck Warnings: 0