Package: BgeeDB Version: 2.33.0 Command: /home/biocbuild/R/R/bin/R CMD build --keep-empty-dirs --no-resave-data BgeeDB StartedAt: 2025-01-29 21:08:31 -0000 (Wed, 29 Jan 2025) EndedAt: 2025-01-29 21:16:18 -0000 (Wed, 29 Jan 2025) EllapsedTime: 466.1 seconds RetCode: 1 Status: ERROR PackageFile: None PackageFileSize: NA