Package: BgeeDB Version: 2.33.0 Command: /Library/Frameworks/R.framework/Resources/bin/R CMD build --keep-empty-dirs --no-resave-data BgeeDB StartedAt: 2025-02-19 15:39:34 -0500 (Wed, 19 Feb 2025) EndedAt: 2025-02-19 15:43:40 -0500 (Wed, 19 Feb 2025) EllapsedTime: 245.5 seconds RetCode: 0 Status: OK PackageFile: BgeeDB_2.33.0.tar.gz PackageFileSize: 106.9 KiB