Package: BgeeCall Version: 1.23.0 Command: chmod a+r BgeeCall -R && E:\biocbuild\bbs-3.21-bioc\R\bin\R.exe CMD build --keep-empty-dirs --no-resave-data BgeeCall StartedAt: 2025-02-20 17:25:31 -0500 (Thu, 20 Feb 2025) EndedAt: 2025-02-20 17:30:31 -0500 (Thu, 20 Feb 2025) EllapsedTime: 300.9 seconds RetCode: 0 Status: OK PackageFile: BgeeCall_1.23.0.tar.gz PackageFileSize: 5.665 MiB