Package: BgeeCall Version: 1.23.0 Command: rm -rf BgeeCall.buildbin-libdir && mkdir BgeeCall.buildbin-libdir && E:\biocbuild\bbs-3.21-bioc\R\bin\R.exe CMD INSTALL --build --library=BgeeCall.buildbin-libdir BgeeCall_1.23.0.tar.gz StartedAt: 2025-02-21 07:37:24 -0500 (Fri, 21 Feb 2025) EndedAt: 2025-02-21 07:38:39 -0500 (Fri, 21 Feb 2025) EllapsedTime: 74.9 seconds RetCode: 0 Status: OK PackageFile: BgeeCall_1.23.0.zip PackageFileSize: 5.937 MiB