Package: BeadDataPackR Version: 1.59.0 Command: rm -rf BeadDataPackR.buildbin-libdir && mkdir BeadDataPackR.buildbin-libdir && E:\biocbuild\bbs-3.21-bioc\R\bin\R.exe CMD INSTALL --build --library=BeadDataPackR.buildbin-libdir BeadDataPackR_1.59.0.tar.gz StartedAt: 2025-02-21 07:36:52 -0500 (Fri, 21 Feb 2025) EndedAt: 2025-02-21 07:37:19 -0500 (Fri, 21 Feb 2025) EllapsedTime: 27.2 seconds RetCode: 0 Status: OK PackageFile: BeadDataPackR_1.59.0.zip PackageFileSize: 294.2 KiB