Package: BeadDataPackR Version: 1.59.0 Command: /Library/Frameworks/R.framework/Resources/bin/R CMD INSTALL BeadDataPackR StartedAt: 2025-02-20 15:03:12 -0500 (Thu, 20 Feb 2025) EndedAt: 2025-02-20 15:03:44 -0500 (Thu, 20 Feb 2025) EllapsedTime: 32.2 seconds RetCode: 0 Status: OK