Package: BeadDataPackR Version: 1.59.0 Command: /Library/Frameworks/R.framework/Resources/bin/R CMD check --install=check:BeadDataPackR.install-out.txt --library=/Library/Frameworks/R.framework/Resources/library --no-vignettes --timings BeadDataPackR_1.59.0.tar.gz StartedAt: 2025-02-20 18:59:56 -0500 (Thu, 20 Feb 2025) EndedAt: 2025-02-20 19:00:22 -0500 (Thu, 20 Feb 2025) EllapsedTime: 26.3 seconds RetCode: 0 Status: OK CheckDir: BeadDataPackR.Rcheck Warnings: 0