Package: BeadDataPackR Version: 1.59.0 Command: /Library/Frameworks/R.framework/Resources/bin/R CMD INSTALL BeadDataPackR StartedAt: 2025-02-20 15:01:05 -0500 (Thu, 20 Feb 2025) EndedAt: 2025-02-20 15:01:10 -0500 (Thu, 20 Feb 2025) EllapsedTime: 5.1 seconds RetCode: 0 Status: OK