Package: BeadDataPackR Version: 1.59.0 Command: rm -rf BeadDataPackR.buildbin-libdir && mkdir BeadDataPackR.buildbin-libdir && /Users/biocbuild/BBS/utils/build-universal.sh BeadDataPackR_1.59.0.tar.gz /Library/Frameworks/R.framework/Resources/bin/R BeadDataPackR.buildbin-libdir StartedAt: 2025-02-20 22:11:11 -0500 (Thu, 20 Feb 2025) EndedAt: 2025-02-20 22:11:14 -0500 (Thu, 20 Feb 2025) EllapsedTime: 3.1 seconds RetCode: 0 Status: OK PackageFile: BeadDataPackR_1.59.0.tgz PackageFileSize: 284.4 KiB