Package: BayesSpace Version: 1.17.0 Command: chmod a+r BayesSpace -R && E:\biocbuild\bbs-3.21-bioc\R\bin\R.exe CMD build --keep-empty-dirs --no-resave-data BayesSpace StartedAt: 2025-02-20 17:22:08 -0500 (Thu, 20 Feb 2025) EndedAt: 2025-02-20 17:26:21 -0500 (Thu, 20 Feb 2025) EllapsedTime: 253.0 seconds RetCode: 0 Status: OK PackageFile: BayesSpace_1.17.0.tar.gz PackageFileSize: 1.001 MiB