Package: BayesSpace Version: 1.17.0 Command: /home/biocbuild/bbs-3.21-bioc/R/bin/R CMD build --keep-empty-dirs --no-resave-data BayesSpace StartedAt: 2025-02-20 16:31:06 -0500 (Thu, 20 Feb 2025) EndedAt: 2025-02-20 16:47:33 -0500 (Thu, 20 Feb 2025) EllapsedTime: 987.9 seconds RetCode: 0 Status: OK PackageFile: BayesSpace_1.17.0.tar.gz PackageFileSize: 1.209 MiB