Package: BayesSpace Version: 1.17.0 Command: rm -rf BayesSpace.buildbin-libdir && mkdir BayesSpace.buildbin-libdir && /Users/biocbuild/BBS/utils/build-universal.sh BayesSpace_1.17.0.tar.gz /Library/Frameworks/R.framework/Resources/bin/R BayesSpace.buildbin-libdir StartedAt: 2025-02-20 22:10:57 -0500 (Thu, 20 Feb 2025) EndedAt: 2025-02-20 22:11:24 -0500 (Thu, 20 Feb 2025) EllapsedTime: 26.5 seconds RetCode: 0 Status: OK PackageFile: BayesSpace_1.17.0.tgz PackageFileSize: 1.931 MiB