Package: BayesKnockdown Version: 1.33.0 Command: /Library/Frameworks/R.framework/Resources/bin/R CMD build --keep-empty-dirs --no-resave-data BayesKnockdown StartedAt: 2025-02-20 15:37:06 -0500 (Thu, 20 Feb 2025) EndedAt: 2025-02-20 15:37:11 -0500 (Thu, 20 Feb 2025) EllapsedTime: 5.1 seconds RetCode: 0 Status: OK PackageFile: BayesKnockdown_1.33.0.tar.gz PackageFileSize: 211.7 KiB