Package: BasicSTARRseq Version: 1.35.0 Command: /home/biocbuild/bbs-3.21-bioc/R/bin/R CMD INSTALL BasicSTARRseq StartedAt: 2025-02-20 15:34:10 -0500 (Thu, 20 Feb 2025) EndedAt: 2025-02-20 15:34:36 -0500 (Thu, 20 Feb 2025) EllapsedTime: 25.5 seconds RetCode: 0 Status: OK