Package: BasicSTARRseq Version: 1.35.0 Command: /home/biocbuild/bbs-3.21-bioc/R/bin/R CMD check --install=check:BasicSTARRseq.install-out.txt --library=/home/biocbuild/bbs-3.21-bioc/R/site-library --timings BasicSTARRseq_1.35.0.tar.gz StartedAt: 2025-02-20 20:06:54 -0500 (Thu, 20 Feb 2025) EndedAt: 2025-02-20 20:09:53 -0500 (Thu, 20 Feb 2025) EllapsedTime: 178.2 seconds RetCode: 0 Status: OK CheckDir: BasicSTARRseq.Rcheck Warnings: 0