Package: BasicSTARRseq Version: 1.35.0 Command: rm -rf BasicSTARRseq.buildbin-libdir && mkdir BasicSTARRseq.buildbin-libdir && /Users/biocbuild/BBS/utils/build-universal.sh BasicSTARRseq_1.35.0.tar.gz /Library/Frameworks/R.framework/Resources/bin/R BasicSTARRseq.buildbin-libdir StartedAt: 2025-02-21 00:20:02 -0500 (Fri, 21 Feb 2025) EndedAt: 2025-02-21 00:20:42 -0500 (Fri, 21 Feb 2025) EllapsedTime: 39.4 seconds RetCode: 0 Status: OK PackageFile: BasicSTARRseq_1.35.0.tgz PackageFileSize: 808.7 KiB