Package: Basic4Cseq Version: 1.43.0 Command: /Library/Frameworks/R.framework/Resources/bin/R CMD check --install=check:Basic4Cseq.install-out.txt --library=/Library/Frameworks/R.framework/Resources/library --no-vignettes --timings Basic4Cseq_1.43.0.tar.gz StartedAt: 2025-02-19 18:56:44 -0500 (Wed, 19 Feb 2025) EndedAt: 2025-02-19 19:00:58 -0500 (Wed, 19 Feb 2025) EllapsedTime: 254.5 seconds RetCode: 0 Status: OK CheckDir: Basic4Cseq.Rcheck Warnings: 0