Package: Basic4Cseq Version: 1.43.0 Command: /Library/Frameworks/R.framework/Resources/bin/R CMD build --keep-empty-dirs --no-resave-data Basic4Cseq StartedAt: 2025-02-19 15:55:42 -0500 (Wed, 19 Feb 2025) EndedAt: 2025-02-19 15:56:40 -0500 (Wed, 19 Feb 2025) EllapsedTime: 58.3 seconds RetCode: 0 Status: OK PackageFile: Basic4Cseq_1.43.0.tar.gz PackageFileSize: 384.7 KiB