Package: Basic4Cseq Version: 1.43.0 Command: rm -rf Basic4Cseq.buildbin-libdir && mkdir Basic4Cseq.buildbin-libdir && /Users/biocbuild/BBS/utils/build-universal.sh Basic4Cseq_1.43.0.tar.gz /Library/Frameworks/R.framework/Resources/bin/R Basic4Cseq.buildbin-libdir StartedAt: 2025-02-20 22:10:52 -0500 (Thu, 20 Feb 2025) EndedAt: 2025-02-20 22:11:07 -0500 (Thu, 20 Feb 2025) EllapsedTime: 15.3 seconds RetCode: 0 Status: OK PackageFile: Basic4Cseq_1.43.0.tgz PackageFileSize: 779.3 KiB