Package: BaseSpaceR Version: 1.51.0 Command: /Library/Frameworks/R.framework/Resources/bin/R CMD check --install=check:BaseSpaceR.install-out.txt --library=/Library/Frameworks/R.framework/Resources/library --no-vignettes --timings BaseSpaceR_1.51.0.tar.gz StartedAt: 2025-02-20 18:56:38 -0500 (Thu, 20 Feb 2025) EndedAt: 2025-02-20 18:57:37 -0500 (Thu, 20 Feb 2025) EllapsedTime: 58.4 seconds RetCode: 0 Status: WARNINGS CheckDir: BaseSpaceR.Rcheck Warnings: 1