Package: BaseSpaceR Version: 1.51.0 Command: /Library/Frameworks/R.framework/Resources/bin/R CMD INSTALL BaseSpaceR StartedAt: 2025-02-21 15:02:15 -0500 (Fri, 21 Feb 2025) EndedAt: 2025-02-21 15:02:23 -0500 (Fri, 21 Feb 2025) EllapsedTime: 8.1 seconds RetCode: 0 Status: OK