Package: BaseSpaceR Version: 1.51.0 Command: /Library/Frameworks/R.framework/Resources/bin/R CMD build --keep-empty-dirs --no-resave-data BaseSpaceR StartedAt: 2025-02-21 15:36:26 -0500 (Fri, 21 Feb 2025) EndedAt: 2025-02-21 15:36:36 -0500 (Fri, 21 Feb 2025) EllapsedTime: 10.1 seconds RetCode: 0 Status: OK PackageFile: BaseSpaceR_1.51.0.tar.gz PackageFileSize: 580.8 KiB