Package: Banksy Version: 1.3.0 Command: /Library/Frameworks/R.framework/Resources/bin/R CMD build --keep-empty-dirs --no-resave-data Banksy StartedAt: 2025-02-20 15:36:06 -0500 (Thu, 20 Feb 2025) EndedAt: 2025-02-20 15:57:14 -0500 (Thu, 20 Feb 2025) EllapsedTime: 1268.2 seconds RetCode: 0 Status: OK PackageFile: Banksy_1.3.0.tar.gz PackageFileSize: 4.196 MiB