Package: BadRegionFinder Version: 1.35.3 Command: /home/biocbuild/bbs-3.21-bioc/R/bin/R CMD INSTALL BadRegionFinder StartedAt: 2025-02-20 15:58:12 -0500 (Thu, 20 Feb 2025) EndedAt: 2025-02-20 15:58:51 -0500 (Thu, 20 Feb 2025) EllapsedTime: 39.0 seconds RetCode: 0 Status: OK