Package: BadRegionFinder Version: 1.35.3 Command: /Library/Frameworks/R.framework/Resources/bin/R CMD check --install=check:BadRegionFinder.install-out.txt --library=/Library/Frameworks/R.framework/Resources/library --no-vignettes --timings BadRegionFinder_1.35.3.tar.gz StartedAt: 2025-02-21 18:54:45 -0500 (Fri, 21 Feb 2025) EndedAt: 2025-02-21 18:59:52 -0500 (Fri, 21 Feb 2025) EllapsedTime: 307.1 seconds RetCode: 0 Status: OK CheckDir: BadRegionFinder.Rcheck Warnings: 0