Package: BadRegionFinder Version: 1.35.3 Command: /Library/Frameworks/R.framework/Resources/bin/R CMD build --keep-empty-dirs --no-resave-data BadRegionFinder StartedAt: 2025-02-21 15:55:17 -0500 (Fri, 21 Feb 2025) EndedAt: 2025-02-21 15:56:41 -0500 (Fri, 21 Feb 2025) EllapsedTime: 83.3 seconds RetCode: 0 Status: OK PackageFile: BadRegionFinder_1.35.3.tar.gz PackageFileSize: 832.9 KiB