Package: BadRegionFinder Version: 1.35.3 Command: /Library/Frameworks/R.framework/Resources/bin/R CMD INSTALL BadRegionFinder StartedAt: 2025-02-20 15:13:18 -0500 (Thu, 20 Feb 2025) EndedAt: 2025-02-20 15:13:35 -0500 (Thu, 20 Feb 2025) EllapsedTime: 16.9 seconds RetCode: 0 Status: OK