Package: BaalChIP Version: 1.33.0 Command: /home/biocbuild/bbs-3.21-bioc/R/bin/R CMD build --keep-empty-dirs --no-resave-data BaalChIP StartedAt: 2025-02-19 16:11:25 -0500 (Wed, 19 Feb 2025) EndedAt: 2025-02-19 16:13:26 -0500 (Wed, 19 Feb 2025) EllapsedTime: 121.1 seconds RetCode: 0 Status: OK PackageFile: BaalChIP_1.33.0.tar.gz PackageFileSize: 45.23 MiB