Package: BaalChIP Version: 1.33.0 Command: /Library/Frameworks/R.framework/Resources/bin/R CMD INSTALL BaalChIP StartedAt: 2025-02-19 15:15:37 -0500 (Wed, 19 Feb 2025) EndedAt: 2025-02-19 15:16:56 -0500 (Wed, 19 Feb 2025) EllapsedTime: 79.1 seconds RetCode: 0 Status: OK