Package: BUSseq Version: 1.13.0 Command: E:\biocbuild\bbs-3.21-bioc\R\bin\R.exe CMD INSTALL BUSseq StartedAt: 2025-02-17 16:13:20 -0500 (Mon, 17 Feb 2025) EndedAt: 2025-02-17 16:13:58 -0500 (Mon, 17 Feb 2025) EllapsedTime: 38.2 seconds RetCode: 0 Status: OK