Package: BUSseq Version: 1.13.0 Command: E:\biocbuild\bbs-3.21-bioc\R\bin\R.exe CMD check --no-multiarch --install=check:BUSseq.install-out.txt --library=E:\biocbuild\bbs-3.21-bioc\R\library --no-vignettes --timings BUSseq_1.13.0.tar.gz StartedAt: 2025-02-17 23:08:44 -0500 (Mon, 17 Feb 2025) EndedAt: 2025-02-17 23:15:13 -0500 (Mon, 17 Feb 2025) EllapsedTime: 388.9 seconds RetCode: 0 Status: OK CheckDir: BUSseq.Rcheck Warnings: 0