Package: BUSseq Version: 1.13.0 Command: chmod a+r BUSseq -R && E:\biocbuild\bbs-3.21-bioc\R\bin\R.exe CMD build --keep-empty-dirs --no-resave-data BUSseq StartedAt: 2025-02-17 17:33:41 -0500 (Mon, 17 Feb 2025) EndedAt: 2025-02-17 17:37:42 -0500 (Mon, 17 Feb 2025) EllapsedTime: 240.3 seconds RetCode: 0 Status: OK PackageFile: BUSseq_1.13.0.tar.gz PackageFileSize: 914.7 KiB