Package: BUSseq Version: 1.13.0 Command: rm -rf BUSseq.buildbin-libdir && mkdir BUSseq.buildbin-libdir && E:\biocbuild\bbs-3.21-bioc\R\bin\R.exe CMD INSTALL --build --library=BUSseq.buildbin-libdir BUSseq_1.13.0.tar.gz StartedAt: 2025-02-18 06:58:19 -0500 (Tue, 18 Feb 2025) EndedAt: 2025-02-18 06:58:56 -0500 (Tue, 18 Feb 2025) EllapsedTime: 36.7 seconds RetCode: 0 Status: OK PackageFile: BUSseq_1.13.0.zip PackageFileSize: 1.263 MiB