Package: BUSseq Version: 1.13.0 Command: /home/biocbuild/bbs-3.21-bioc/R/bin/R CMD build --keep-empty-dirs --no-resave-data BUSseq StartedAt: 2025-02-17 16:28:27 -0500 (Mon, 17 Feb 2025) EndedAt: 2025-02-17 16:29:25 -0500 (Mon, 17 Feb 2025) EllapsedTime: 58.1 seconds RetCode: 0 Status: OK PackageFile: BUSseq_1.13.0.tar.gz PackageFileSize: 1.05 MiB