Package: BUSseq Version: 1.13.0 Command: /Library/Frameworks/R.framework/Resources/bin/R CMD INSTALL BUSseq StartedAt: 2025-02-17 15:11:12 -0500 (Mon, 17 Feb 2025) EndedAt: 2025-02-17 15:11:47 -0500 (Mon, 17 Feb 2025) EllapsedTime: 35.4 seconds RetCode: 0 Status: OK