Package: BUSseq Version: 1.13.0 Command: /Library/Frameworks/R.framework/Resources/bin/R CMD check --install=check:BUSseq.install-out.txt --library=/Library/Frameworks/R.framework/Resources/library --no-vignettes --timings BUSseq_1.13.0.tar.gz StartedAt: 2025-02-17 18:20:34 -0500 (Mon, 17 Feb 2025) EndedAt: 2025-02-17 18:21:52 -0500 (Mon, 17 Feb 2025) EllapsedTime: 77.9 seconds RetCode: 0 Status: OK CheckDir: BUSseq.Rcheck Warnings: 0