Package: BUSseq Version: 1.13.0 Command: /Library/Frameworks/R.framework/Resources/bin/R CMD build --keep-empty-dirs --no-resave-data BUSseq StartedAt: 2025-02-17 15:46:12 -0500 (Mon, 17 Feb 2025) EndedAt: 2025-02-17 15:46:42 -0500 (Mon, 17 Feb 2025) EllapsedTime: 30.3 seconds RetCode: 0 Status: OK PackageFile: BUSseq_1.13.0.tar.gz PackageFileSize: 978.1 KiB