Package: BUSseq Version: 1.13.0 Command: rm -rf BUSseq.buildbin-libdir && mkdir BUSseq.buildbin-libdir && /Users/biocbuild/BBS/utils/build-universal.sh BUSseq_1.13.0.tar.gz /Library/Frameworks/R.framework/Resources/bin/R BUSseq.buildbin-libdir StartedAt: 2025-02-17 22:11:08 -0500 (Mon, 17 Feb 2025) EndedAt: 2025-02-17 22:11:21 -0500 (Mon, 17 Feb 2025) EllapsedTime: 12.2 seconds RetCode: 0 Status: OK PackageFile: BUSseq_1.13.0.tgz PackageFileSize: 957.4 KiB