Package: BUSpaRse Version: 1.21.0 Command: E:\biocbuild\bbs-3.21-bioc\R\bin\R.exe CMD INSTALL BUSpaRse StartedAt: 2025-02-21 17:09:20 -0500 (Fri, 21 Feb 2025) EndedAt: 2025-02-21 17:10:39 -0500 (Fri, 21 Feb 2025) EllapsedTime: 78.5 seconds RetCode: 0 Status: OK