Package: BUSpaRse Version: 1.21.0 Command: /home/biocbuild/bbs-3.21-bioc/R/bin/R CMD INSTALL BUSpaRse StartedAt: 2025-02-21 16:19:56 -0500 (Fri, 21 Feb 2025) EndedAt: 2025-02-21 16:20:55 -0500 (Fri, 21 Feb 2025) EllapsedTime: 59.0 seconds RetCode: 0 Status: OK