Package: BUSpaRse Version: 1.21.0 Command: /Library/Frameworks/R.framework/Resources/bin/R CMD INSTALL BUSpaRse StartedAt: 2025-02-20 15:13:37 -0500 (Thu, 20 Feb 2025) EndedAt: 2025-02-20 15:13:58 -0500 (Thu, 20 Feb 2025) EllapsedTime: 21.1 seconds RetCode: 0 Status: OK