Package: BUSpaRse Version: 1.21.0 Command: /Library/Frameworks/R.framework/Resources/bin/R CMD build --keep-empty-dirs --no-resave-data BUSpaRse StartedAt: 2025-02-20 15:46:07 -0500 (Thu, 20 Feb 2025) EndedAt: 2025-02-20 15:47:57 -0500 (Thu, 20 Feb 2025) EllapsedTime: 109.1 seconds RetCode: 0 Status: OK PackageFile: BUSpaRse_1.21.0.tar.gz PackageFileSize: 578.4 KiB