Package: BUScorrect Version: 1.25.0 Command: /home/biocbuild/bbs-3.21-bioc/R/bin/R CMD check --install=check:BUScorrect.install-out.txt --library=/home/biocbuild/bbs-3.21-bioc/R/site-library --timings BUScorrect_1.25.0.tar.gz StartedAt: 2025-02-19 20:30:30 -0500 (Wed, 19 Feb 2025) EndedAt: 2025-02-19 20:35:16 -0500 (Wed, 19 Feb 2025) EllapsedTime: 286.3 seconds RetCode: 0 Status: OK CheckDir: BUScorrect.Rcheck Warnings: 0