Package: BUScorrect Version: 1.25.0 Command: /Library/Frameworks/R.framework/Resources/bin/R CMD check --install=check:BUScorrect.install-out.txt --library=/Library/Frameworks/R.framework/Resources/library --no-vignettes --timings BUScorrect_1.25.0.tar.gz StartedAt: 2025-02-19 18:23:09 -0500 (Wed, 19 Feb 2025) EndedAt: 2025-02-19 18:24:28 -0500 (Wed, 19 Feb 2025) EllapsedTime: 78.9 seconds RetCode: 0 Status: OK CheckDir: BUScorrect.Rcheck Warnings: 0