Package: BUMHMM Version: 1.31.0 Command: /home/biocbuild/bbs-3.21-bioc/R/bin/R CMD check --install=check:BUMHMM.install-out.txt --library=/home/biocbuild/bbs-3.21-bioc/R/site-library --timings BUMHMM_1.31.0.tar.gz StartedAt: 2025-02-19 20:30:08 -0500 (Wed, 19 Feb 2025) EndedAt: 2025-02-19 20:33:27 -0500 (Wed, 19 Feb 2025) EllapsedTime: 199.2 seconds RetCode: 0 Status: OK CheckDir: BUMHMM.Rcheck Warnings: 0