Package: BUMHMM Version: 1.31.0 Command: /Library/Frameworks/R.framework/Resources/bin/R CMD check --install=check:BUMHMM.install-out.txt --library=/Library/Frameworks/R.framework/Resources/library --no-vignettes --timings BUMHMM_1.31.0.tar.gz StartedAt: 2025-02-19 19:15:38 -0500 (Wed, 19 Feb 2025) EndedAt: 2025-02-19 19:19:12 -0500 (Wed, 19 Feb 2025) EllapsedTime: 213.8 seconds RetCode: 0 Status: OK CheckDir: BUMHMM.Rcheck Warnings: 0