Package: BSgenomeForge Version: 1.7.0 Command: E:\biocbuild\bbs-3.21-bioc\R\bin\R.exe CMD check --no-multiarch --install=check:BSgenomeForge.install-out.txt --library=E:\biocbuild\bbs-3.21-bioc\R\library --no-vignettes --timings BSgenomeForge_1.7.0.tar.gz StartedAt: 2025-02-20 23:25:31 -0500 (Thu, 20 Feb 2025) EndedAt: 2025-02-20 23:30:59 -0500 (Thu, 20 Feb 2025) EllapsedTime: 328.1 seconds RetCode: 1 Status: ERROR CheckDir: BSgenomeForge.Rcheck Warnings: NA