Package: BSgenomeForge Version: 1.7.0 Command: /home/biocbuild/R/R/bin/R CMD build --keep-empty-dirs --no-resave-data BSgenomeForge StartedAt: 2025-01-28 21:28:44 -0000 (Tue, 28 Jan 2025) EndedAt: 2025-01-28 21:30:17 -0000 (Tue, 28 Jan 2025) EllapsedTime: 93.0 seconds RetCode: 0 Status: OK PackageFile: BSgenomeForge_1.7.0.tar.gz PackageFileSize: 708.7 KiB