Package: BSgenome Version: 1.75.1 Command: E:\biocbuild\bbs-3.21-bioc\R\bin\R.exe CMD check --no-multiarch --install=check:BSgenome.install-out.txt --library=E:\biocbuild\bbs-3.21-bioc\R\library --no-vignettes --timings BSgenome_1.75.1.tar.gz StartedAt: 2025-02-19 23:13:52 -0500 (Wed, 19 Feb 2025) EndedAt: 2025-02-19 23:25:12 -0500 (Wed, 19 Feb 2025) EllapsedTime: 680.3 seconds RetCode: 0 Status: WARNINGS CheckDir: BSgenome.Rcheck Warnings: 1